BEGIN:VCALENDAR
VERSION:2.0
PRODID:-//hacksw/handcal//NONSGML v1.0//EN
CALSCALE:GREGORIAN
BEGIN:VEVENT
ORGANIZER;CN=Western Digital Corporation:MAILTO:no-reply@mail.gcs-web.com
DTEND:
UID:296398dc-0445-41fa-b148-d7785d53f87a
DTSTAMP:1777043307
LOCATION:https://investor.wdc.com/events/event-details/barclays-18th-annual-americas-select-conference-2026
DESCRIPTION:Event Details https://investor.wdc.com/events/event-details/barclays-18th-annual-americas-select-conference-2026
URL;VALUE=URI:https://investor.wdc.com/events/event-details/barclays-18th-annual-americas-select-conference-2026
SUMMARY:Western Digital Corporation -  Barclays 18th Annual Americas Select Conference 2026
DTSTART:20260505T131500Z
END:VEVENT
END:VCALENDAR