BEGIN:VCALENDAR
VERSION:2.0
PRODID:-//hacksw/handcal//NONSGML v1.0//EN
CALSCALE:GREGORIAN
BEGIN:VEVENT
ORGANIZER;CN=Western Digital Corporation:MAILTO:no-reply@mail.gcs-web.com
DTEND:
UID:023a23ea-da91-402b-9fb5-9820f0344c0f
DTSTAMP:1777043427
LOCATION:https://investor.wdc.com/events/event-details/jp-morgan-2026-global-technology-media-and-communications-conference
DESCRIPTION:Event Details https://investor.wdc.com/events/event-details/jp-morgan-2026-global-technology-media-and-communications-conference
URL;VALUE=URI:https://investor.wdc.com/events/event-details/jp-morgan-2026-global-technology-media-and-communications-conference
SUMMARY:Western Digital Corporation - J.P. Morgan 2026 Global Technology, Media and Communications Conference
DTSTART:20260518T201000Z
END:VEVENT
END:VCALENDAR