BEGIN:VCALENDAR
VERSION:2.0
PRODID:-//hacksw/handcal//NONSGML v1.0//EN
CALSCALE:GREGORIAN
BEGIN:VEVENT
ORGANIZER;CN=Western Digital Corporation:MAILTO:no-reply@mail.gcs-web.com
DTEND:
UID:bea3b204-d5d3-4e79-9bc9-e9a7562b9c30
DTSTAMP:1776962658
LOCATION:https://investor.wdc.com/events/event-details/2026-evercore-global-tmt-conference
DESCRIPTION:Event Details https://investor.wdc.com/events/event-details/2026-evercore-global-tmt-conference
URL;VALUE=URI:https://investor.wdc.com/events/event-details/2026-evercore-global-tmt-conference
SUMMARY:Western Digital Corporation - 2026 Evercore Global TMT Conference
DTSTART:20260603T154500Z
END:VEVENT
END:VCALENDAR